Workbook

Sheet Instructions
A6: Cornell Student Number:
A8: NCCW 5000 – Financial Accounting
A9: PRIMARY FINAL EXAMINATION –FALL 2020
A11: 1. | B11: For partial credit in Section III, please show all calculations.
A13: 2. | B13: State any assumptions you make.
A15: 3. | B15: Please use the provided Excel Response Template file to insert your answers to the questions in this exam. There is a separate tab for each question. You may add additional tabs. Upload that file with your answers to submit your exam.
A17: 4. | B17: The use of standard abbreviations is acceptable.
A19: 5. | B19: This is an open book, open notes exam.
A21: 6. | B21: You have 190 minutes to complete this exam.
A23: Please note that by submitting this exam you are agreeing to the Academic Integrity code of Cornell University. Academic integrity is expected of all students at all times, whether in the presence or absence of members of the faculty. Understanding this, you are declaring that you shall not give, use or receive unauthorized aid in this examination.

Sheet Grades
A1: Please leave this spreadsheet tab blank. I will fill the information in here.
A4: Section | B4: Question(s) | C4: Points Available | D4: Points Awarded | E4: Comment
A5: I | B5: 1 - 10 | C5: 10 | D5: ='Section I'!D15 -> 0
A6: II | B6: 11 - 20 | C6: 30 | D6: ='Section II'!C15 -> 0
B7: 21 | C7: 6 | D7: ='Q21'!B1 -> 0
B8: =B7+1 -> 22 | C8: 6 | D8: ='Q22'!B1 -> 0
B9: =B8+1 -> 23 | C9: 10 | D9: ='Q23'!B1 -> 0
B10: Q24 - Q27 | C10: 13 | D10: ='Q24 - Q27'!B1 -> 0
B11: Q28 - Q29 | C11: 10 | D11: ='Q28 - Q29'!B1 -> 0
B12: Q30 | C12: 12 | D12: ='Q30'!B1 -> 0
B13: Q31 | C13: 8 | D13: ='Q31'!B1 -> 0
B15: Total | C15: =SUM(C5:C13) -> 105 | D15: =SUM(D5:D13) -> 0

Sheet Section I
A1: Section I: True/False – If the statement is FALSE, you must explain why or correct it to get credit. Insert your “TRUE” or “FALSE” choice and any explanation or correction for the latter in the Response Template file provided with this exam. (10 points total, 1 point each)
A4: Question | B4: True or False? (Type your response) | C4: If you chose "false", explain or correct: | D4: Grades | E4: Comment
A5: 1
A6: 2
A7: 3
A8: 4
A9: 5
A10: 6
A11: 7
A12: 8
A13: 9
A14: 10
D15: =SUM(D5:D14) -> 0 | E15: Total

Sheet Section II
A1: Section II: Multiple Choice – Indicate the correct answer in the place provided in the Response Template file. (30 points total, 3 points each)
A4: Question | B4: Letter Choice | C4: Grades | D4: Comment
A5: 11
A6: 12
A7: 13
A8: 14
A9: 15
A10: 16
A11: 17
A12: 18
A13: 19
A14: 20
C15: =SUM(C5:C14) -> 0 | D15: Total

Sheet Q21
A1: Grades | C1: (out of 6)
A3: PLEASE DO NOT CHANGE ANY INFORMATION ABOVE THIS BLACK BAR. SHOW ANY WORK BELOW THIS BLACK BAR.
B4: Cash | E4: Short term Invest HEC
A5: 44044 | B5: Dr | C5: Cr | E5: DR | F5: CR
A6: HEC | B6: 9950 | F6: 9950 | G6: cash | H6: sale of cash equivalent item
B8: =B4 -> Cash | E8: Short-term invest Marlin
A10: 44182 | B10: 9500 | F10: =B10 -> 9500 | G10: cash | H10: sale of cash equivalent item
A14: Adjustment for new appreciation of short-term investment to be determined when realized.

Sheet Q22
A1: Grades | B1: =K5+K6+K7+M5+M6+M7 -> 0 | C1: (out of 6)
A3: Required: insert your answers in the columns labeled "Value" and do not enter data under "Grades" | J3: 2017 | L3: 2018
J4: Value | K4: Grade | L4: Value | M4: Grade
A5: A. | B5: The depreciation expense for the truck that would be shown on the company’s income statement (2 points)
A6: B. | B6: The amount of tax depreciation claimed (2 points)
A7: C. | B7: The change in deferred taxes (2 points)
A9: ENTER YOUR ANSWERS IN CELLS J5-J7 AND L5-L7. PLEASE DO NOT CHANGE ANYTHING ELSE ABOVE THIS BLACK BAR.

Sheet Q23
A1: Grades | B1: =G7+G8 -> 0 | C1: (out of 10)
A4: Fill in answers in cells B&-F8 below . Show your work below the black bar.
A6: Month | B6: Beginning Balance of Lease Liability | C6: Annual Lease Payment | D6: Interest Portion of Lease Payment | E6: Principal Portion of Lease Payment | F6: Ending Balance of Lease Liability | G6: Grades
A7: 1
A8: 2
A10: ENTER YOUR ANSWERS IN CELLS B7-F8. PLEASE DO NOT CHANGE ANYTHING ELSE ABOVE THIS BLACK BAR. SHOW YOU WORK BELOW THE BLACK BAR.

Sheet Q24 - Q27
A1: Grades | B1: =SUM(B3:B6) -> 0 | C1: (out of 13)
A3: Q24 | C3: (out of 3)
A4: Q25 | C4: (out of 3)
A5: Q26 | C5: (out of 3)
A6: Q27 | C6: (out of 4)
A8: PLEASE DO NOT CHANGE ANY INFORMATION ABOVE THIS BLACK BAR. SHOW ANY WORK BELOW THIS BLACK BAR.

Sheet Q28 - Q29
A1: Grades | B1: =B3+B4 -> 0 | C1: (out of 10)
A3: Q28 | C3: (out of 5)
A4: Q29 | C4: (out of 5)
A6: PLEASE DO NOT CHANGE ANY INFORMATION ABOVE THIS BLACK BAR. SHOW ANY WORK BELOW THIS BLACK BAR.

Sheet Q30
A1: Grades | B1: =D6+D7+D8 -> 0 | C1: (out of 12)
A3: Show your work in the cells below row 28. Fill in your answers in te table below.
A5: Method | B5: Ending Inventory ($) | C5: Cost of Goods Sold | D5: Grades
A6: Average Cost
A7: FIFO
A8: LIFO
A10: For your reference, data from the question:
A12: Month | B12: Purchases | D12: Sales
B13: Units | C13: Cost/Unit | D13: Units | E13: Total Revenue
A14: Opening balance | B14: 4000 | C14: 41
A15: January | B15: 11000 | C15: 44 | D15: 14500 | E15: 1087500
A16: February | B16: 35000 | C16: 47 | D16: 15800 | E16: 1185000
A17: March | B17: 58000 | C17: 45 | D17: 41800 | E17: 3135000
A18: April | D18: 19500 | E18: 1560000
A19: May | D19: 15400 | E19: 1232000
A20: June | B20: 52000 | C20: 46 | D20: 19800 | E20: 1584000
A21: July | B21: 39000 | C21: 47 | D21: 18900 | E21: 1512000
A22: August | D22: 22800 | E22: 1824000
A23: September | D23: 19500 | E23: 1657500
A24: October | B24: 29000 | C24: 48 | D24: 24700 | E24: 2099500
A25: November | B25: 10000 | C25: 48 | D25: 8700 | E25: 739500
A26: December | B26: 5000 | C26: 49 | D26: 14600 | E26: 1314000
A28: ENTER YOUR ANSWERS IN CELLS B6-C8. PLEASE DO NOT CHANGE ANY OTHER INFORMATION ABOVE THIS BLACK BAR. SHOW ANY WORK BELOW THIS BLACK BAR.
B31: Month | C31: Purchases | E31: Sales | G31: Total Cost
C32: Units | D32: Cost/Unit | E32: Units | F32: Total Revenue
B33: Opening balance | C33: 4000 | D33: 41 | G33: =C33*D33 -> 164000
B34: January | C34: 11000 | D34: 44 | E34: 14500 | F34: 1087500 | G34: =C34*D34 -> 484000 | I34: =3000*D34 -> 132000 | J34: =G34-I34 -> 352000
B35: February | C35: 35000 | D35: 47 | E35: 15800 | F35: 1185000 | G35: =C35*D35 -> 1645000
B36: March | C36: 58000 | D36: 45 | E36: 41800 | F36: 3135000 | G36: =C36*D36 -> 2610000
B37: April | E37: 19500 | F37: 1560000 | G37: =C37*D37 -> 0
B38: May | E38: 15400 | F38: 1232000 | G38: =C38*D38 -> 0
B39: June | C39: 52000 | D39: 46 | E39: 19800 | F39: 1584000 | G39: =C39*D39 -> 2392000
B40: July | C40: 39000 | D40: 47 | E40: 18900 | F40: 1512000 | G40: =C40*D40 -> 1833000
B41: August | E41: 22800 | F41: 1824000 | G41: =C41*D41 -> 0
B42: September | E42: 19500 | F42: 1657500 | G42: =C42*D42 -> 0
B43: October | C43: 29000 | D43: 48 | E43: 24700 | F43: 2099500 | G43: =C43*D43 -> 1392000 | H43: =SUM(G33:G43) -> 10520000
B44: November | C44: 10000 | D44: 48 | E44: 8700 | F44: 739500 | G44: =C44*D44 -> 480000 | H44: =8000*D44 -> 384000
B45: December | C45: 5000 | D45: 49 | E45: 14600 | F45: 1314000 | G45: =C45*D45 -> 245000 | I45: =SUM(G35:G45) -> 10597000
B46: total units | C46: =SUM(C33:C45) -> 243000 | E46: =SUM(E34:E45) -> 236000 | G46: =SUM(G33:G45) -> 11245000
B48: Average cost | C48: =G46/C46 -> 46.27572
...

Sheet Q31
A1: Grades | B1: =G7+G8+G11+G12 -> 0 | C1: (out of 8)
A3: Show your work in the cells below row 25. Fill in your answers in te table below. Add as many rows as you'd like to each transaction.
B5: Transaction | C5: Debits | E5: Credits
C6: Code | D6: Amount | E6: Code | F6: Amount | G6: Grades
A7: 1 | B7: Oct. 1, 2019—The board of directors declared a $2 per share cash dividend payment, which will be paid in 2020.
A11: 2 | B11: Nov. 28, 2019—The corporation purchased 10,000 of its own shares at $11 per share.
A15: For your reference, data from the question: Account Letter Codes
A17: A | B17: Cash
A18: B | B18: Dividends payable
A19: C | B19: Common stock
A20: D | B20: Additional paid-in capital
A21: E | B21: Retained earnings
A22: F | B22: Treasury stock
A23: G | B23: No journal entry
A25: ENTER YOUR ANSWERS IN THE ROWS ABOVE. PLEASE DO NOT CHANGE ANY INFORMATION ABOVE THIS BLACK BAR. SHOW ANY WORK BELOW THIS BLACK BAR.
